BEGIN:VCALENDAR
VERSION:2.0
PRODID:-//wp-events-plugin.com//7.2.3.1//EN
TZID:Europe/Berlin
X-WR-TIMEZONE:Europe/Berlin
BEGIN:VEVENT
UID:203@momentum.jetzt
DTSTART;TZID=Europe/Berlin;VALUE=DATE:20260625
DTEND;TZID=Europe/Berlin;VALUE=DATE:20260629
DTSTAMP:20250709T100049Z
URL:https://momentum.jetzt/termine/zertifizierung-zum-hypnosis-technician-
 praesenz-2/
SUMMARY:Zertifizierung zum Hypnosis Technician (Präsenz)
DESCRIPTION:In diesem Live-Trainingsprogramm lernst du sämtliche Hintergr
 ünde und Methoden\, die du für die Hypnose benötigst. Zusätzlich behan
 deln wir konkrete Methoden für deine persönliche Anwendung.\nBei erfolgr
 eichem Abschluss erhältst du den international anerkannten Titel „Hypno
 sis Technician“ der World Hypnosis Organization inkl. Zertifikat.
ATTACH;FMTTYPE=image/jpeg:https://momentum.jetzt/wp-content/uploads/Zertif
 izierung-HT.jpg
CATEGORIES:Hypnose &amp; Mentaltraining,Hypnose-Ausbildung,Hypnosis
 Technician,Zertifizierung
LOCATION:Villa momentum\, Dirolfstraße 7\, Worms\, Rheinland-Pfalz\, 67549
 \, Deutschland
GEO:49.631905;8.350071
X-APPLE-STRUCTURED-LOCATION;VALUE=URI;X-ADDRESS=Dirolfstraße 7\, Worms\, R
 heinland-Pfalz\, 67549\, Deutschland;X-APPLE-RADIUS=100;X-TITLE=Villa mome
 ntum:geo:49.631905,8.350071
END:VEVENT
BEGIN:VTIMEZONE
TZID:Europe/Berlin
X-LIC-LOCATION:Europe/Berlin
BEGIN:DAYLIGHT
DTSTART:20260329T030000
TZOFFSETFROM:+0100
TZOFFSETTO:+0200
TZNAME:CEST
END:DAYLIGHT
END:VTIMEZONE
END:VCALENDAR