BEGIN:VCALENDAR
VERSION:2.0
PRODID:-//wp-events-plugin.com//7.2.3.1//EN
TZID:Europe/Berlin
X-WR-TIMEZONE:Europe/Berlin
BEGIN:VEVENT
UID:250@momentum.jetzt
DTSTART;TZID=Europe/Berlin:20260530T100000
DTEND;TZID=Europe/Berlin:20260530T170000
DTSTAMP:20260415T170107Z
URL:https://momentum.jetzt/termine/vortrag-bei-der-konferencija-we-evolve-
 world/
SUMMARY:Vortrag bei der Konferencija We Evolve World
DESCRIPTION:\nPractical Instant Hypnosis\n\n\n\nIch freue mich riesig über
  die Einladung von Dr. Darko Cvetković\, dem Präsidenten von ICI und In-
 Me für Serbien und Gründer des Energy House Institute in Niš.\n\n\n\nAu
 f der ersten serbischen Konferenz der Dachgesellschaft "We Evolve World"\,
  zu der auch die World Hypnosis Organization gehört\, werde ich meine Erf
 ahrungen aus der Instant- und Straßenhypnose teilen.\n\n\n\nHier das Abst
 ract meines Vortrags:\n\n\n\nPractical Instant HypnosisCreating Hypnotic M
 oments—Anytime\, Anywhere\n\n\n\nWhat if you could create hypnotic exper
 iences naturally\, wherever you are—without preparation\, scripts\, or f
 ormal setups?\n\n\n\nIn this session\, you’ll learn how to apply hypnosi
 s spontaneously in real-life situations. Whether in casual conversations\,
  social environments\, or as a powerful opener in coaching\, you’ll disc
 over how to guide people into immediate hypnotic responses with clarity an
 d ease.\n\n\n\nInstead of relying on formal inductions or elaborate routin
 es\, the focus is on simple\, direct approaches that work in the moment. Y
 ou’ll explore how to create engaging and effective hypnotic phenomena th
 at feel natural\, respectful\, and surprisingly effortless.\n\n\n\nLive De
 monstrations &amp\; Practical Application\n\n\n\nThis session is highly in
 teractive. You’ll experience live demonstrations with volunteers and hav
 e the opportunity to practice key elements right away. Step by step\, you
 ’ll build confidence in applying these methods in authentic\, real-world
  interactions.\n\n\n\nWhat You’ll Take With You\n\n\n\nYou’ll leave wi
 th a set of flexible\, easy-to-use hypnosis approaches that allow you to c
 reate impactful experiences on the spot—whether in conversations\, group
  settings\, or spontaneous encounters. These methods combine simplicity wi
 th strong effects\, expanding your ability to use hypnosis wherever the mo
 ment invites it.\n\n\n\n\n
ATTACH;FMTTYPE=image/jpeg:https://momentum.jetzt/wp-content/uploads/Instan
 t-Hypnose-10_2025_JPEG_-63-e1761642702532.jpg
CATEGORIES:Hypnose &amp; Mentaltraining,Vorträge
LOCATION:Science &amp\; Technology Park Niš\, Aleksandra Medvedeva 2a\, Ni
 š\, Crveni Krst\, 18104\, Serbia
GEO:43.331655;21.894293
X-APPLE-STRUCTURED-LOCATION;VALUE=URI;X-ADDRESS=Aleksandra Medvedeva 2a\, N
 iš\, Crveni Krst\, 18104\, Serbia;X-APPLE-RADIUS=100;X-TITLE=Science & Te
 chnology Park Niš:geo:43.331655,21.894293
END:VEVENT
BEGIN:VTIMEZONE
TZID:Europe/Berlin
X-LIC-LOCATION:Europe/Berlin
BEGIN:DAYLIGHT
DTSTART:20260329T030000
TZOFFSETFROM:+0100
TZOFFSETTO:+0200
TZNAME:CEST
END:DAYLIGHT
END:VTIMEZONE
END:VCALENDAR