BEGIN:VCALENDAR
VERSION:2.0
PRODID:-//wp-events-plugin.com//7.2.3.1//EN
TZID:Europe/Berlin
X-WR-TIMEZONE:Europe/Berlin
BEGIN:VEVENT
UID:247@momentum.jetzt
DTSTART;TZID=Europe/Berlin:20260704T110000
DTEND;TZID=Europe/Berlin:20260704T150000
DTSTAMP:20260320T081030Z
URL:https://momentum.jetzt/termine/strassenhypnose-in-worms-8/
SUMMARY:Straßenhypnose in Worms
DESCRIPTION:Gemeinsam hypnotisieren\, lernen und staunen – in einer offen
 en und begeisterten Community! Egal\, ob Du professioneller Hypnotiseur bi
 st\, erste Erfahrungen mit der Instant-Hypnose gesammelt hast oder komplet
 ter Neuling bist – beim Straßenhypnose-Treffen in Worms kannst du aktiv
  mitmachen und garantiert noch etwas dazulernen.
ATTACH;FMTTYPE=image/jpeg:https://momentum.jetzt/wp-content/uploads/2e621d
 43-23f3-4e4a-9f88-3d12d9e0b37c.jpg
CATEGORIES:Hypnose &amp;
 Mentaltraining,kostenlos,Präsenz,Specials,Straßenhypnose,Treffen
LOCATION:Fußgängerzone Worms\, Kämmererstraße\, Worms\, Rheinland-Pfalz
 \, 67547\, Deutschland
GEO:49.631703;8.362846
X-APPLE-STRUCTURED-LOCATION;VALUE=URI;X-ADDRESS=Kämmererstraße\, Worms\, 
 Rheinland-Pfalz\, 67547\, Deutschland;X-APPLE-RADIUS=100;X-TITLE=Fußgäng
 erzone Worms:geo:49.631703,8.362846
END:VEVENT
BEGIN:VTIMEZONE
TZID:Europe/Berlin
X-LIC-LOCATION:Europe/Berlin
BEGIN:DAYLIGHT
DTSTART:20260329T030000
TZOFFSETFROM:+0100
TZOFFSETTO:+0200
TZNAME:CEST
END:DAYLIGHT
END:VTIMEZONE
END:VCALENDAR