BEGIN:VCALENDAR
VERSION:2.0
PRODID:-//wp-events-plugin.com//7.2.3.1//EN
TZID:Europe/Berlin
X-WR-TIMEZONE:Europe/Berlin
BEGIN:VEVENT
UID:222@momentum.jetzt
DTSTART;TZID=Europe/Berlin:20260527T193000
DTEND;TZID=Europe/Berlin:20260527T220000
DTSTAMP:20251006T063316Z
URL:https://momentum.jetzt/termine/schnupperabend-selbsthypnose-2/
SUMMARY:Schnupperabend Selbsthypnose
DESCRIPTION:Kostenloser\, unverbindlicher Einstieg: Selbsthypnose kennenler
 nen und bei Interesse den Kurs fortsetzen.
ATTACH;FMTTYPE=image/jpeg:https://momentum.jetzt/wp-content/uploads/SH-squ
 are.jpg
CATEGORIES:Faszination Hypnose,Hypnose &amp;
 Mentaltraining,Hypnose-Ausbildung,kostenlos,Selbsthypnose
LOCATION:https://us02web.zoom.us/j/81214406734?pwd=d2tDaU9ZNGpCM1NVZk1wMzFN
 SU5QUT09
END:VEVENT
BEGIN:VTIMEZONE
TZID:Europe/Berlin
X-LIC-LOCATION:Europe/Berlin
BEGIN:DAYLIGHT
DTSTART:20260329T030000
TZOFFSETFROM:+0100
TZOFFSETTO:+0200
TZNAME:CEST
END:DAYLIGHT
END:VTIMEZONE
END:VCALENDAR