BEGIN:VCALENDAR
VERSION:2.0
PRODID:-//wp-events-plugin.com//7.2.3.1//EN
TZID:Europe/Berlin
X-WR-TIMEZONE:Europe/Berlin
BEGIN:VEVENT
UID:227@momentum.jetzt
DTSTART;TZID=Europe/Berlin:20260601T193000
DTEND;TZID=Europe/Berlin:20260601T220000
DTSTAMP:20251006T071340Z
URL:https://momentum.jetzt/termine/schnupperabend-partizipative-hypnose/
SUMMARY:Schnupperabend Partizipative Hypnose
DESCRIPTION:Kostenloser\, unverbindlicher Einstieg: Gesprächshypnsoe kenne
 nlernen und bei Interesse den Kurs fortsetzen.
ATTACH;FMTTYPE=image/jpeg:https://momentum.jetzt/wp-content/uploads/HELIX.
 jpg
CATEGORIES:Faszination Hypnose,Hypnose &amp;
 Mentaltraining,Hypnose-Ausbildung,kostenlos,Partizipative Hypnose
LOCATION:https://us02web.zoom.us/j/83858257790?pwd=RGtrYkhBcTgvUmNIR2pCR0w4
 MVZndz09
END:VEVENT
BEGIN:VTIMEZONE
TZID:Europe/Berlin
X-LIC-LOCATION:Europe/Berlin
BEGIN:DAYLIGHT
DTSTART:20260329T030000
TZOFFSETFROM:+0100
TZOFFSETTO:+0200
TZNAME:CEST
END:DAYLIGHT
END:VTIMEZONE
END:VCALENDAR