BEGIN:VCALENDAR
VERSION:2.0
PRODID:-//wp-events-plugin.com//7.2.3.1//EN
TZID:Europe/Berlin
X-WR-TIMEZONE:Europe/Berlin
BEGIN:VEVENT
UID:235@momentum.jetzt
DTSTART;TZID=Europe/Berlin:20260914T193000
DTEND;TZID=Europe/Berlin:20260914T220000
DTSTAMP:20260102T140338Z
URL:https://momentum.jetzt/termine/schnupperabend-metaphern-praxis-2/
SUMMARY:Schnupperabend Metaphern-Praxis
DESCRIPTION:Kostenloser\, unverbindlicher Einstieg: Metaphern kennenlernen 
 und bei Interesse den Kurs fortsetzen.
ATTACH;FMTTYPE=image/jpeg:https://momentum.jetzt/wp-content/uploads/Metaph
 ern-Praxis-square.jpg
CATEGORIES:Faszination Hypnose,Hypnose &amp;
 Mentaltraining,Hypnose-Ausbildung,kostenlos,Metaphern-Praxis
LOCATION:https://us02web.zoom.us/j/84068050022?pwd=REZ4K1NmRU9RMkd0cTVSZFRG
 Vml4QT09
END:VEVENT
BEGIN:VTIMEZONE
TZID:Europe/Berlin
X-LIC-LOCATION:Europe/Berlin
BEGIN:DAYLIGHT
DTSTART:20260329T030000
TZOFFSETFROM:+0100
TZOFFSETTO:+0200
TZNAME:CEST
END:DAYLIGHT
END:VTIMEZONE
END:VCALENDAR