BEGIN:VCALENDAR
VERSION:2.0
PRODID:-//wp-events-plugin.com//7.2.3.1//EN
TZID:Europe/Berlin
X-WR-TIMEZONE:Europe/Berlin
BEGIN:VEVENT
UID:231@momentum.jetzt
DTSTART;TZID=Europe/Berlin:20260601T193000
DTEND;TZID=Europe/Berlin:20260629T220000
DTSTAMP:20260323T081049Z
URL:https://momentum.jetzt/termine/partizipative-hypnose-5/
SUMMARY:Partizipative Hypnose
DESCRIPTION:Lerne eine neue Hypnoseart ohne “Schlaf!”\, mit aktiver Bet
 eiligung und in vollem Bewusstsein des Hypnotees.
ATTACH;FMTTYPE=image/jpeg:https://momentum.jetzt/wp-content/uploads/HELIX.
 jpg
CATEGORIES:Hypnose &amp; Mentaltraining,Hypnose-Ausbildung,Partizipative
 Hypnose,Themen-Modul
LOCATION:https://us02web.zoom.us/j/83858257790?pwd=RGtrYkhBcTgvUmNIR2pCR0w4
 MVZndz09
END:VEVENT
BEGIN:VTIMEZONE
TZID:Europe/Berlin
X-LIC-LOCATION:Europe/Berlin
BEGIN:DAYLIGHT
DTSTART:20260329T030000
TZOFFSETFROM:+0100
TZOFFSETTO:+0200
TZNAME:CEST
END:DAYLIGHT
END:VTIMEZONE
END:VCALENDAR