BEGIN:VCALENDAR
VERSION:2.0
PRODID:-//wp-events-plugin.com//7.2.3.1//EN
TZID:Europe/Berlin
X-WR-TIMEZONE:Europe/Berlin
BEGIN:VEVENT
UID:205@momentum.jetzt
DTSTART;TZID=Europe/Berlin:20251011T160000
DTEND;TZID=Europe/Berlin:20251011T183000
DTSTAMP:20251013T063907Z
URL:https://momentum.jetzt/termine/momentum-magica-2/
SUMMARY:momentum magica
DESCRIPTION:Magische Momente im historischen Ambiente einer alten Villa\nEi
 n Nachmittag voller Zauber\, Charme und überraschender Begegnungen
ATTACH;FMTTYPE=image/jpeg:https://momentum.jetzt/wp-content/uploads/zauber
 team.jpg
CATEGORIES:Shows,Specials
LOCATION:Villa momentum\, Dirolfstraße 7\, Worms\, Rheinland-Pfalz\, 67549
 \, Deutschland
GEO:49.631905;8.350071
X-APPLE-STRUCTURED-LOCATION;VALUE=URI;X-ADDRESS=Dirolfstraße 7\, Worms\, R
 heinland-Pfalz\, 67549\, Deutschland;X-APPLE-RADIUS=100;X-TITLE=Villa mome
 ntum:geo:49.631905,8.350071
END:VEVENT
BEGIN:VTIMEZONE
TZID:Europe/Berlin
X-LIC-LOCATION:Europe/Berlin
BEGIN:DAYLIGHT
DTSTART:20250330T030000
TZOFFSETFROM:+0100
TZOFFSETTO:+0200
TZNAME:CEST
END:DAYLIGHT
END:VTIMEZONE
END:VCALENDAR