BEGIN:VCALENDAR
VERSION:2.0
PRODID:-//wp-events-plugin.com//7.2.3.1//EN
TZID:Europe/Berlin
X-WR-TIMEZONE:Europe/Berlin
BEGIN:VEVENT
UID:234@momentum.jetzt
DTSTART;TZID=Europe/Berlin:20260914T193000
DTEND;TZID=Europe/Berlin:20261012T220000
DTSTAMP:20260302T203011Z
URL:https://momentum.jetzt/termine/metaphern-praxis-2/
SUMMARY:Metaphern-Praxis
DESCRIPTION:In diesem Modul lernst du den Aufbau\, die Anwendung und die En
 twicklung von Kurzmetaphern und metaphorischen Geschichten.
ATTACH;FMTTYPE=image/jpeg:https://momentum.jetzt/wp-content/uploads/Metaph
 ern-Praxis-square.jpg
CATEGORIES:Hypnose &amp;
 Mentaltraining,Hypnose-Ausbildung,Metaphern-Praxis,Themen-Modul
LOCATION:https://us02web.zoom.us/j/84068050022?pwd=REZ4K1NmRU9RMkd0cTVSZFRG
 Vml4QT09
END:VEVENT
BEGIN:VTIMEZONE
TZID:Europe/Berlin
X-LIC-LOCATION:Europe/Berlin
BEGIN:DAYLIGHT
DTSTART:20260329T030000
TZOFFSETFROM:+0100
TZOFFSETTO:+0200
TZNAME:CEST
END:DAYLIGHT
END:VTIMEZONE
END:VCALENDAR