BEGIN:VCALENDAR
VERSION:2.0
PRODID:-//wp-events-plugin.com//7.2.3.1//EN
TZID:Europe/Berlin
X-WR-TIMEZONE:Europe/Berlin
BEGIN:VEVENT
UID:238@momentum.jetzt
DTSTART;TZID=Europe/Berlin:20260625T100000
DTEND;TZID=Europe/Berlin:20260626T180000
DTSTAMP:20260130T151520Z
URL:https://momentum.jetzt/termine/kraft-der-hypnose-4/
SUMMARY:Kraft der Hypnose
DESCRIPTION:Lerne und erlebe\, wie du die Kraft deines Unterbewusstseins f
 ür mehr Lebensqualität aktivieren kannst.
ATTACH;FMTTYPE=image/jpeg:https://momentum.jetzt/wp-content/uploads/Kraft-
 der-Hypnose-square.jpg
CATEGORIES:Basis-Modul,Hypnose &amp;
 Mentaltraining,Hypnose-Ausbildung,Kraft der Hypnose
LOCATION:Villa momentum\, Dirolfstraße 7\, Worms\, Rheinland-Pfalz\, 67549
 \, Deutschland
GEO:49.631905;8.350071
X-APPLE-STRUCTURED-LOCATION;VALUE=URI;X-ADDRESS=Dirolfstraße 7\, Worms\, R
 heinland-Pfalz\, 67549\, Deutschland;X-APPLE-RADIUS=100;X-TITLE=Villa mome
 ntum:geo:49.631905,8.350071
END:VEVENT
BEGIN:VTIMEZONE
TZID:Europe/Berlin
X-LIC-LOCATION:Europe/Berlin
BEGIN:DAYLIGHT
DTSTART:20260329T030000
TZOFFSETFROM:+0100
TZOFFSETTO:+0200
TZNAME:CEST
END:DAYLIGHT
END:VTIMEZONE
END:VCALENDAR