BEGIN:VCALENDAR
VERSION:2.0
PRODID:-//wp-events-plugin.com//7.2.3.1//EN
TZID:Europe/Berlin
X-WR-TIMEZONE:Europe/Berlin
BEGIN:VEVENT
UID:232@momentum.jetzt
DTSTART;TZID=Europe/Berlin:20261026T193000
DTEND;TZID=Europe/Berlin:20261130T220000
DTSTAMP:20260418T064126Z
URL:https://momentum.jetzt/termine/indirekte-hypnose-3/
SUMMARY:Indirekte Hypnose
DESCRIPTION:Lerne die Methoden der indirekt-permissiven Hypnose\, die im ei
 nfachen Gespräch ohne formelle Induktion verwendet wird.
ATTACH;FMTTYPE=image/jpeg:https://momentum.jetzt/wp-content/uploads/Indire
 kte-Hypnose-square.jpg
CATEGORIES:Hypnose &amp; Mentaltraining,Hypnose-Ausbildung,Indirekte
 Hypnose,Themen-Modul
LOCATION:https://us02web.zoom.us/j/86503515048?pwd=Xgm4WpvAwktmMKT1yPDoOAY0
 1pMkCc.1
END:VEVENT
BEGIN:VTIMEZONE
TZID:Europe/Berlin
X-LIC-LOCATION:Europe/Berlin
BEGIN:STANDARD
DTSTART:20261025T020000
TZOFFSETFROM:+0200
TZOFFSETTO:+0100
TZNAME:CET
END:STANDARD
END:VTIMEZONE
END:VCALENDAR