BEGIN:VCALENDAR
VERSION:2.0
PRODID:-//wp-events-plugin.com//7.2.3.1//EN
TZID:Europe/Berlin
X-WR-TIMEZONE:Europe/Berlin
BEGIN:VEVENT
UID:213@momentum.jetzt
DTSTART;TZID=Europe/Berlin:20260429T193000
DTEND;TZID=Europe/Berlin:20260429T213000
DTSTAMP:20250819T065717Z
URL:https://momentum.jetzt/termine/hypnose-uebungsgruppe-24/
SUMMARY:Hypnose Übungsgruppe
DESCRIPTION:Hier treffen sich Menschen\, die gerne Hypnose erleben möchten
  mit denen\, die Hypnose praktisch üben möchten.
ATTACH;FMTTYPE=image/jpeg:https://momentum.jetzt/wp-content/uploads/Uebung
 sgruppe.jpg
CATEGORIES:Hypnose &amp; Mentaltraining,Hypnose
 Übungsgruppe,kostenlos,Treffen
LOCATION:https://us02web.zoom.us/j/82930915886?pwd=DDcQw0yXuuUbjf7QCo9xmAgB
 XF5pvD.1
END:VEVENT
BEGIN:VTIMEZONE
TZID:Europe/Berlin
X-LIC-LOCATION:Europe/Berlin
BEGIN:DAYLIGHT
DTSTART:20260329T030000
TZOFFSETFROM:+0100
TZOFFSETTO:+0200
TZNAME:CEST
END:DAYLIGHT
END:VTIMEZONE
END:VCALENDAR