BEGIN:VCALENDAR
VERSION:2.0
PRODID:-//wp-events-plugin.com//7.2.3.1//EN
TZID:Europe/Berlin
X-WR-TIMEZONE:Europe/Berlin
BEGIN:VEVENT
UID:243@momentum.jetzt
DTSTART;TZID=Europe/Berlin:20260627T190000
DTEND;TZID=Europe/Berlin:20260627T220000
DTSTAMP:20260414T064818Z
URL:https://momentum.jetzt/termine/hypnose-treff-worms-2/
SUMMARY:Hypnose-Treff Worms
DESCRIPTION:Lockere Runde gleichgesinnter Hypnotiseure und interessierter L
 aien. Wir treffen uns zum Fachsimpeln\, Austauschen und Üben. Schwerpunkt
  ist die Allgemeine Hypnose (Instant-Hypnose\, Gesprächshypnose\, Selbsth
 ypnose\, Coaching\, etc.).
ATTACH;FMTTYPE=image/jpeg:https://momentum.jetzt/wp-content/uploads/IMG_80
 75-e1710669159624.jpg
CATEGORIES:Hypnose &amp; Mentaltraining,kostenlos,Präsenz,Treffen
LOCATION:Brauhaus Zwölf Apostel\, Alzeyer Straße 31\, Worms\, Rheinland-P
 falz\, 67549\, Deutschland
GEO:49.631109;8.350303
X-APPLE-STRUCTURED-LOCATION;VALUE=URI;X-ADDRESS=Alzeyer Straße 31\, Worms\
 , Rheinland-Pfalz\, 67549\, Deutschland;X-APPLE-RADIUS=100;X-TITLE=Brauhau
 s Zwölf Apostel:geo:49.631109,8.350303
END:VEVENT
BEGIN:VTIMEZONE
TZID:Europe/Berlin
X-LIC-LOCATION:Europe/Berlin
BEGIN:DAYLIGHT
DTSTART:20260329T030000
TZOFFSETFROM:+0100
TZOFFSETTO:+0200
TZNAME:CEST
END:DAYLIGHT
END:VTIMEZONE
END:VCALENDAR