BEGIN:VCALENDAR
VERSION:2.0
PRODID:-//wp-events-plugin.com//7.2.3.1//EN
TZID:Europe/Berlin
X-WR-TIMEZONE:Europe/Berlin
BEGIN:VEVENT
UID:186@momentum.jetzt
DTSTART;TZID=Europe/Berlin:20260811T193000
DTEND;TZID=Europe/Berlin:20260811T213000
DTSTAMP:20251125T100102Z
URL:https://momentum.jetzt/termine/faszination-hypnose-8/
SUMMARY:Faszination Hypnose
DESCRIPTION:Erlebe die Kraft des Unterbewusstseins bei diesem kostenlosen S
 chnupperabend.
ATTACH;FMTTYPE=image/jpeg:https://momentum.jetzt/wp-content/uploads/Faszin
 ation-Hypnose-square.jpg
CATEGORIES:Basis-Modul,Faszination Hypnose,Hypnose &amp;
 Mentaltraining,Hypnose-Ausbildung,kostenlos
LOCATION:https://us02web.zoom.us/j/85181290024?pwd=6bBlhE12qJKJVxb8pmPFljkS
 UYhad0.1
END:VEVENT
BEGIN:VTIMEZONE
TZID:Europe/Berlin
X-LIC-LOCATION:Europe/Berlin
BEGIN:DAYLIGHT
DTSTART:20260329T030000
TZOFFSETFROM:+0100
TZOFFSETTO:+0200
TZNAME:CEST
END:DAYLIGHT
END:VTIMEZONE
END:VCALENDAR