BEGIN:VCALENDAR
VERSION:2.0
PRODID:-//wp-events-plugin.com//7.2.3.1//EN
TZID:Europe/Berlin
X-WR-TIMEZONE:Europe/Berlin
BEGIN:VEVENT
UID:200@momentum.jetzt
DTSTART;TZID=Europe/Berlin:20260526T193000
DTEND;TZID=Europe/Berlin:20260623T220000
DTSTAMP:20260327T130856Z
URL:https://momentum.jetzt/termine/coaching-praxis/
SUMMARY:Coaching-Praxis
DESCRIPTION:Lerne sämtliche Hintergründe und Methoden\, die du für ein e
 rfolgreiches Hypnose-Coaching benötigst.
ATTACH;FMTTYPE=image/jpeg:https://momentum.jetzt/wp-content/uploads/Coachi
 ng-Praxis_square.jpg
CATEGORIES:Coaching-Praxis,Hypnose &amp;
 Mentaltraining,Hypnose-Ausbildung,Themen-Modul
LOCATION:https://us02web.zoom.us/j/82119068771?pwd=amx2RjU4SjByT1FzQmpYK2pH
 RUp0QT09
END:VEVENT
BEGIN:VTIMEZONE
TZID:Europe/Berlin
X-LIC-LOCATION:Europe/Berlin
BEGIN:DAYLIGHT
DTSTART:20260329T030000
TZOFFSETFROM:+0100
TZOFFSETTO:+0200
TZNAME:CEST
END:DAYLIGHT
END:VTIMEZONE
END:VCALENDAR